BEGIN:VCALENDAR
VERSION:2.0
PRODID:-//Eventin//Event Calendar//EN
CALSCALE:GREGORIAN
METHOD:PUBLISH
BEGIN:VEVENT
UID:82de74caccbc3a3f5970a613121da11c@ticket2goec.com
SUMMARY:TBT Ricardo Arjona por Mickey Flores
DESCRIPTION:Una noche para sentir\, cantar y dejar que el corazón hable ba
 jito… 🎶❤️\nEste 16 de mayo\, el escenario de Lobby Music se llena 
 de magia con un romántico tributo a Ricardo Arjona\, interpretado por el t
 alento de Mickey Flores en una íntima sesión acústica que promete erizar
  la piel.\nEntre luces cálidas y acordes de guitarra\, cada canción será
  un suspiro… una historia… un recuerdo que se queda contigo.\n✨ Vive 
 una velada especial en Diva Nicotina – Café Habano (Las peñas\, escaló
 n #10)🕤 Hora: 21:30🎟 Entrada: $5🎫 Adquiere tus tickets en Ticket2G
 o\nDéjate envolver por letras que enamoran y melodías que abrazan el alma
 … porque hay noches que no se olvidan\, se sienten 💕
LOCATION:Diva Nicotina bar
DTSTAMP:20260421T102031Z
DTSTART:20260517T023000Z
DTEND:20260517T043500Z
END:VEVENT
END:VCALENDAR
